BEGIN:VCALENDAR
VERSION:2.0
PRODID:-//Tukios.com/
BEGIN:VEVENT
UID:1ff1d2ad-e5b5-4eca-a917-fb3e2af4c830@www.gareyfuneralhome.com
DTSTAMP:20260424T201920Z
DTSTART:20260502T160000Z
DTEND:20260502T170000Z
SUMMARY:Memorial Service
DESCRIPTION:
URL:https://www.gareyfuneralhome.com/obituaries/cooper-wendland
LOCATION:Ella Missing Center 411 6th St  Arapahoe NE 68922
GEO:40.303061;-99.8966556
END:VEVENT
END:VCALENDAR